BEGIN:VCALENDAR
VERSION:2.0
PRODID:-//La Quinta Centro Comercial - ECPv6.15.17.1//NONSGML v1.0//EN
CALSCALE:GREGORIAN
METHOD:PUBLISH
X-ORIGINAL-URL:https://www.laquinta.com.co
X-WR-CALDESC:Eventos para La Quinta Centro Comercial
REFRESH-INTERVAL;VALUE=DURATION:PT1H
X-Robots-Tag:noindex
X-PUBLISHED-TTL:PT1H
BEGIN:VTIMEZONE
TZID:America/New_York
BEGIN:DAYLIGHT
TZOFFSETFROM:-0500
TZOFFSETTO:-0400
TZNAME:EDT
DTSTART:20250309T070000
END:DAYLIGHT
BEGIN:STANDARD
TZOFFSETFROM:-0400
TZOFFSETTO:-0500
TZNAME:EST
DTSTART:20251102T060000
END:STANDARD
BEGIN:DAYLIGHT
TZOFFSETFROM:-0500
TZOFFSETTO:-0400
TZNAME:EDT
DTSTART:20260308T070000
END:DAYLIGHT
BEGIN:STANDARD
TZOFFSETFROM:-0400
TZOFFSETTO:-0500
TZNAME:EST
DTSTART:20261101T060000
END:STANDARD
BEGIN:DAYLIGHT
TZOFFSETFROM:-0500
TZOFFSETTO:-0400
TZNAME:EDT
DTSTART:20270314T070000
END:DAYLIGHT
BEGIN:STANDARD
TZOFFSETFROM:-0400
TZOFFSETTO:-0500
TZNAME:EST
DTSTART:20271107T060000
END:STANDARD
END:VTIMEZONE
BEGIN:VEVENT
DTSTART;TZID=America/New_York:20260401T100000
DTEND;TZID=America/New_York:20260430T203000
DTSTAMP:20260425T181726
CREATED:20260408T171253Z
LAST-MODIFIED:20260408T171320Z
UID:6547-1775037600-1777581000@www.laquinta.com.co
SUMMARY:Zona futbolera
DESCRIPTION:Durante abril\, podras vivir una experiencia futbolera con amigos o familia\, esta fan zone estará ubicada en Terraza Q\, permanentemente. \nHorario: 11:00 a.m. a 8:30 p.m.
URL:https://www.laquinta.com.co/event/zona-futbolera/
ATTACH;FMTTYPE=image/png:https://www.laquinta.com.co/wp-content/uploads/2026/04/PIEZAS-DE-ACTIVIDADES-DE-ABRIL-7.png
END:VEVENT
BEGIN:VEVENT
DTSTART;TZID=America/New_York:20260405T113000
DTEND;TZID=America/New_York:20260426T123000
DTSTAMP:20260425T181726
CREATED:20260408T171015Z
LAST-MODIFIED:20260408T171015Z
UID:6545-1775388600-1777206600@www.laquinta.com.co
SUMMARY:Santa Eucaristía domingos
DESCRIPTION: Todos los domingos de los meses de abril\, mayo\, junio y julio del 2026 a las 11:30 a.m. los clientes podrán participar de la Sagrada Eucaristía en el segundo piso de la fase II.
URL:https://www.laquinta.com.co/event/santa-eucaristia-domingos-2/
END:VEVENT
BEGIN:VEVENT
DTSTART;TZID=America/New_York:20260425T100000
DTEND;TZID=America/New_York:20260425T190000
DTSTAMP:20260425T181726
CREATED:20260408T170542Z
LAST-MODIFIED:20260408T170542Z
UID:6540-1777111200-1777143600@www.laquinta.com.co
SUMMARY:Anota el Gol en La Quinta
DESCRIPTION:El sábado 25 de abril tendremos una activación que marca el inicio de la fiebre del fútbol. Por el registro de compras iguales o superiores a $200 mil\, los clientes podrán participar en la dinámica “Anota el gol” en nuestro mini arco. Quienes logren marcar recibirán un delicioso helado. \nHorarios: 10:00 a.m. a 7:00 p.m. \nDisponibilidad de helados: 100 unidades \nLugar: Primer piso en fase 1
URL:https://www.laquinta.com.co/event/anota-el-gol-en-la-quinta/
ATTACH;FMTTYPE=image/png:https://www.laquinta.com.co/wp-content/uploads/2026/04/PIEZAS-DE-ACTIVIDADES-DE-ABRIL-5.png
END:VEVENT
BEGIN:VEVENT
DTSTART;TZID=America/New_York:20260425T100000
DTEND;TZID=America/New_York:20260425T233000
DTSTAMP:20260425T181726
CREATED:20260408T170347Z
LAST-MODIFIED:20260408T170347Z
UID:6537-1777111200-1777159800@www.laquinta.com.co
SUMMARY:Un equipo\, muchos superpoderes con Encuadre
DESCRIPTION:Por registro de compras acumuladas iguales o superiores a $100.000\, realizadas entre el 1 y el 24 de abril\, los clientes podrán inscribirse a un taller creativo donde diseñarán su propia camiseta mientras descubren las fortalezas que hacen única a su familia\, las inscripciones podrán realizarse en el punto de información hasta completar los cupos disponibles \nLa actividad contará con el acompañamiento de profesionales de la firma Encuadre\, la cual busca fortalecer el vínculo\, la comunicación y la autoestima\, entendiendo que cada integrante aporta algo valioso al equipo familiar. \nFecha: sábado 25 de abril \nHora: 10:00 a.m. \nLugar: Terraza Q \nCupos: 10 niños (de 5 a 12 años) con un acompañante
URL:https://www.laquinta.com.co/event/un-equipo-muchos-superpoderes-con-encuadre/
END:VEVENT
BEGIN:VEVENT
DTSTART;TZID=America/New_York:20260425T150000
DTEND;TZID=America/New_York:20260425T180000
DTSTAMP:20260425T181726
CREATED:20260408T170059Z
LAST-MODIFIED:20260408T170059Z
UID:6534-1777129200-1777140000@www.laquinta.com.co
SUMMARY:Celebración día del Niño\, personajes sorpresa del Fútbol y candy bar
DESCRIPTION:Se desarrollará una jornada enfocada en público familiar e infantil\, con personajes sorpresa del fútbol y una activación tipo “fútbol bar” que de manera itinerante entregará dulces por los pasillos del mall\, una experiencia diseñada para complementar la experiencia y generar un cierre de mes atractivo y diferencial. \nLa actividad estará abierta para todos los visitantes y se realizará por todo el centro comercial. \nHora: 3:00 p.m. – 6:00 p.m.
URL:https://www.laquinta.com.co/event/celebracion-dia-del-nino-personajes-sorpresa-del-futbol-y-candy-bar/
ATTACH;FMTTYPE=image/png:https://www.laquinta.com.co/wp-content/uploads/2026/04/PIEZAS-DE-ACTIVIDADES-DE-ABRIL-6.png
END:VEVENT
END:VCALENDAR