BEGIN:VCALENDAR
VERSION:2.0
PRODID:-//La Quinta Centro Comercial - ECPv6.15.17.1//NONSGML v1.0//EN
CALSCALE:GREGORIAN
METHOD:PUBLISH
X-ORIGINAL-URL:https://www.laquinta.com.co
X-WR-CALDESC:Eventos para La Quinta Centro Comercial
REFRESH-INTERVAL;VALUE=DURATION:PT1H
X-Robots-Tag:noindex
X-PUBLISHED-TTL:PT1H
BEGIN:VTIMEZONE
TZID:America/New_York
BEGIN:DAYLIGHT
TZOFFSETFROM:-0500
TZOFFSETTO:-0400
TZNAME:EDT
DTSTART:20240310T070000
END:DAYLIGHT
BEGIN:STANDARD
TZOFFSETFROM:-0400
TZOFFSETTO:-0500
TZNAME:EST
DTSTART:20241103T060000
END:STANDARD
BEGIN:DAYLIGHT
TZOFFSETFROM:-0500
TZOFFSETTO:-0400
TZNAME:EDT
DTSTART:20250309T070000
END:DAYLIGHT
BEGIN:STANDARD
TZOFFSETFROM:-0400
TZOFFSETTO:-0500
TZNAME:EST
DTSTART:20251102T060000
END:STANDARD
BEGIN:DAYLIGHT
TZOFFSETFROM:-0500
TZOFFSETTO:-0400
TZNAME:EDT
DTSTART:20260308T070000
END:DAYLIGHT
BEGIN:STANDARD
TZOFFSETFROM:-0400
TZOFFSETTO:-0500
TZNAME:EST
DTSTART:20261101T060000
END:STANDARD
END:VTIMEZONE
BEGIN:VEVENT
DTSTART;TZID=America/New_York:20251207T113000
DTEND;TZID=America/New_York:20251228T123000
DTSTAMP:20260426T001056
CREATED:20251201T172047Z
LAST-MODIFIED:20251201T172047Z
UID:4423-1765107000-1766925000@www.laquinta.com.co
SUMMARY:Santa Eucaristía todos los domingos
DESCRIPTION:Acompañanos todos los domingos a las 11:30 am en Fase 2 piso 2.
URL:https://www.laquinta.com.co/event/santa-eucaristia-todos-los-domingos-2/
ATTACH;FMTTYPE=image/jpeg:https://www.laquinta.com.co/wp-content/uploads/2025/12/SANTA-EUCARISTÍA-1-scaled.jpg
END:VEVENT
BEGIN:VEVENT
DTSTART;TZID=America/New_York:20251212T153000
DTEND;TZID=America/New_York:20251212T173000
DTSTAMP:20260426T001056
CREATED:20251201T171938Z
LAST-MODIFIED:20251201T171938Z
UID:4421-1765553400-1765560600@www.laquinta.com.co
SUMMARY:Taller infantil con Time Out: Mis galletas de jengibre
DESCRIPTION:Por el registro de compras acumuladas iguales o superiores a $100 mil\, nuestros clientes podrán inscribir a sus hijos (entre 4 y 10 años) en las siguientes actividades especiales. Registros de facturas del 1 al 11 de diciembre. \nFecha taller: viernes 12 de diciembre. \nTema: Crea tu gorrito de Navidad \nHora: 3:30 p.m.
URL:https://www.laquinta.com.co/event/taller-infantil-con-time-out-mis-galletas-de-jengibre/
ATTACH;FMTTYPE=image/jpeg:https://www.laquinta.com.co/wp-content/uploads/2025/12/ACTIVIDAD-1-scaled.jpg
END:VEVENT
BEGIN:VEVENT
DTSTART;TZID=America/New_York:20251215T183000
DTEND;TZID=America/New_York:20251223T193000
DTSTAMP:20260426T001056
CREATED:20251201T165624Z
LAST-MODIFIED:20251201T165624Z
UID:4412-1765823400-1766518200@www.laquinta.com.co
SUMMARY:Novenas navideñas en La Quinta
DESCRIPTION:Del 15 al 23 de diciembre celebraremos las novenas navideñas en la Terraza Q a las 6:30 p.m. Entrada libre. \n*El domingo 21 de diciembre la novena se realizará en la eucaristía dominical de las 11:30 a.m
URL:https://www.laquinta.com.co/event/novenas-navidenas-en-la-quinta/
ATTACH;FMTTYPE=image/jpeg:https://www.laquinta.com.co/wp-content/uploads/2025/12/ACTIVIDAD-2-scaled.jpg
END:VEVENT
BEGIN:VEVENT
DTSTART;TZID=America/New_York:20251227T180000
DTEND;TZID=America/New_York:20251227T200000
DTSTAMP:20260426T001056
CREATED:20251201T171631Z
LAST-MODIFIED:20251201T171631Z
UID:4419-1766858400-1766865600@www.laquinta.com.co
SUMMARY:Show musical viernes y sabados
DESCRIPTION:Disfruta de la mejor oferta gastronómica en compañia de nuestros show musicales todos los viernes y sabados\, 6 p.m. en Terraza Q.
URL:https://www.laquinta.com.co/event/show-musical-viernes-y-sabados-2/
ATTACH;FMTTYPE=image/jpeg:https://www.laquinta.com.co/wp-content/uploads/2025/11/SHOW-MUSICAL-1-scaled.jpg
END:VEVENT
END:VCALENDAR