BEGIN:VCALENDAR
VERSION:2.0
PRODID:-//La Quinta Centro Comercial - ECPv6.15.17.1//NONSGML v1.0//EN
CALSCALE:GREGORIAN
METHOD:PUBLISH
X-WR-CALNAME:La Quinta Centro Comercial
X-ORIGINAL-URL:https://www.laquinta.com.co
X-WR-CALDESC:Eventos para La Quinta Centro Comercial
REFRESH-INTERVAL;VALUE=DURATION:PT1H
X-Robots-Tag:noindex
X-PUBLISHED-TTL:PT1H
BEGIN:VTIMEZONE
TZID:America/New_York
BEGIN:DAYLIGHT
TZOFFSETFROM:-0500
TZOFFSETTO:-0400
TZNAME:EDT
DTSTART:20240310T070000
END:DAYLIGHT
BEGIN:STANDARD
TZOFFSETFROM:-0400
TZOFFSETTO:-0500
TZNAME:EST
DTSTART:20241103T060000
END:STANDARD
BEGIN:DAYLIGHT
TZOFFSETFROM:-0500
TZOFFSETTO:-0400
TZNAME:EDT
DTSTART:20250309T070000
END:DAYLIGHT
BEGIN:STANDARD
TZOFFSETFROM:-0400
TZOFFSETTO:-0500
TZNAME:EST
DTSTART:20251102T060000
END:STANDARD
BEGIN:DAYLIGHT
TZOFFSETFROM:-0500
TZOFFSETTO:-0400
TZNAME:EDT
DTSTART:20260308T070000
END:DAYLIGHT
BEGIN:STANDARD
TZOFFSETFROM:-0400
TZOFFSETTO:-0500
TZNAME:EST
DTSTART:20261101T060000
END:STANDARD
END:VTIMEZONE
BEGIN:VEVENT
DTSTART;TZID=America/New_York:20251031T100000
DTEND;TZID=America/New_York:20251031T190000
DTSTAMP:20260425T210908
CREATED:20251001T172143Z
LAST-MODIFIED:20251001T172143Z
UID:3201-1761904800-1761937200@www.laquinta.com.co
SUMMARY:Actividad para niños día de Halloween
DESCRIPTION:El viernes 31 de octubre\, disfrutaremos de un desfile de personajes en pisos comerciales\, acompañados de candys para repartir a los niños visitantes entre las 4:00pm – 7:00pm. La entrada es libre.
URL:https://www.laquinta.com.co/event/actividad-para-ninos-dia-de-halloween/
ATTACH;FMTTYPE=image/png:https://www.laquinta.com.co/wp-content/uploads/2025/10/ACTIVIDAD-3.png
END:VEVENT
BEGIN:VEVENT
DTSTART;TZID=America/New_York:20251024T160000
DTEND;TZID=America/New_York:20251024T170000
DTSTAMP:20260425T210908
CREATED:20251001T171905Z
LAST-MODIFIED:20251001T171905Z
UID:3199-1761321600-1761325200@www.laquinta.com.co
SUMMARY:Crea tu antifaz y capa con TimeOut!
DESCRIPTION:Por el registro de compras acumuladas iguales o superiores a $100 mil\, realizadas entre el 1 y el 23 de octubre\, nuestros clientes podrán inscribir a sus hijos (entre 2 y 10 años) en una actividad especial denominada Crea tu antifaz y capa. La actividad consiste en fortalecer las áreas de aprendizaje de los niños mediante la imaginación y creatividad crearan su antifaz y capa en temática del mes del niño. La jornada será dirigida por los talleristas de Time Out. \nFecha actividad: 24 de octubre \nHora: 4:00 p.m. \nLugar: Terraza Q \nCupos disponibles: 22.
URL:https://www.laquinta.com.co/event/crea-tu-antifaz-y-capa-con-timeout/
ATTACH;FMTTYPE=image/png:https://www.laquinta.com.co/wp-content/uploads/2025/10/ACTIVIDAD-2.png
END:VEVENT
BEGIN:VEVENT
DTSTART;TZID=America/New_York:20251005T113000
DTEND;TZID=America/New_York:20251026T123000
DTSTAMP:20260425T210908
CREATED:20251001T172616Z
LAST-MODIFIED:20251001T172649Z
UID:3205-1759663800-1761481800@www.laquinta.com.co
SUMMARY:Santa Eucaristía
DESCRIPTION:Todos los domingos del mes de octubre 2025 a las 11:30 a.m. los clientes podrán participar de la Sagrada Eucaristía en el segundo piso de la fase II.
URL:https://www.laquinta.com.co/event/santa-eucaristia-15/
ATTACH;FMTTYPE=image/png:https://www.laquinta.com.co/wp-content/uploads/2025/10/SANTA-EUCARISTIA.png
END:VEVENT
BEGIN:VEVENT
DTSTART;TZID=America/New_York:20251003T180000
DTEND;TZID=America/New_York:20251031T200000
DTSTAMP:20260425T210908
CREATED:20251001T172510Z
LAST-MODIFIED:20251001T172739Z
UID:3203-1759514400-1761940800@www.laquinta.com.co
SUMMARY:Shows musicales viernes y sábados
DESCRIPTION:Durante el mes continuamos con las presentaciones musicales que amenizan el centro comercial así: \nTodos los viernes y sábados: \nLugar: Terraza Q \nHora: 6:00 p.m.
URL:https://www.laquinta.com.co/event/shows-musicales-viernes-y-sabados-3/
ATTACH;FMTTYPE=image/png:https://www.laquinta.com.co/wp-content/uploads/2025/10/SHOW-MUSICAL.png
END:VEVENT
BEGIN:VEVENT
DTSTART;TZID=America/New_York:20251001T150000
DTEND;TZID=America/New_York:20251010T180000
DTSTAMP:20260425T210908
CREATED:20251001T171645Z
LAST-MODIFIED:20251001T171709Z
UID:3191-1759330800-1760119200@www.laquinta.com.co
SUMMARY:Celebración día mundial de la Salud Mental
DESCRIPTION:El viernes 10 de octubre realizaremos una actividad en cobranding con Encuadre con el proposito de celebrar el cuidado de la salud mental de nuestros visitantes. \nLugar: Ingreso cra 36 \nFecha: Viernes\, 10 de octubre de 2025 \nHora: 3:00 pm \n  \n 
URL:https://www.laquinta.com.co/event/celebracion-dia-mundial-de-la-salud-mental/
ATTACH;FMTTYPE=image/png:https://www.laquinta.com.co/wp-content/uploads/2025/10/ACTIVIDAD-1.png
END:VEVENT
BEGIN:VEVENT
DTSTART;TZID=America/New_York:20250926T160000
DTEND;TZID=America/New_York:20250926T180000
DTSTAMP:20260425T210908
CREATED:20250901T192136Z
LAST-MODIFIED:20250901T192215Z
UID:3136-1758902400-1758909600@www.laquinta.com.co
SUMMARY:TALLER FABRICA DE LA AMISTAD CON TIME OUT
DESCRIPTION:Por el registro de compras acumuladas iguales o superiores a $100 mil\, realizadas entre el 1 y el 25 de septiembre\, nuestros clientes podrán inscribir a sus hijos (entre 2 y 10 años) en una actividad especial denominada Fábrica de la Amistad. \nLa actividad consiste en fortalecer las áreas de aprendizaje de los niños mediante la creación de pulseras personalizadas que luego podrán obsequiar. La jornada será dirigida por los talleristas de Time Out. Fecha: 26 de septiembre Hora: 4:00 p.m. Lugar: Terraza Q Cupos disponibles: 22.
URL:https://www.laquinta.com.co/event/taller-fabrica-de-la-amistad-con-time-out/
ATTACH;FMTTYPE=image/png:https://www.laquinta.com.co/wp-content/uploads/2025/09/ACTIVIDAD-4.png
END:VEVENT
BEGIN:VEVENT
DTSTART;TZID=America/New_York:20250920T153000
DTEND;TZID=America/New_York:20250920T173000
DTSTAMP:20260425T210908
CREATED:20250901T191942Z
LAST-MODIFIED:20250901T191949Z
UID:3134-1758382200-1758389400@www.laquinta.com.co
SUMMARY:ACTIVACIÓN DIA DE AMOR Y AMISTAD
DESCRIPTION:Cupido conquistará el corazón de nuestros visitantes! \nEl sábado 20 de septiembre\, en el marco de la celebración del Día del Amor y la Amistad\, tendremos la visita de un Cupido que entregará un lindo detalle a nuestros clientes. Además\, contaremos con animación musical en los diferentes pisos comerciales.
URL:https://www.laquinta.com.co/event/activacion-dia-de-amor-y-amistad/
ATTACH;FMTTYPE=image/png:https://www.laquinta.com.co/wp-content/uploads/2025/09/ACTIVIDAD-3.png
END:VEVENT
BEGIN:VEVENT
DTSTART;TZID=America/New_York:20250912T163000
DTEND;TZID=America/New_York:20250913T183000
DTSTAMP:20260425T210908
CREATED:20250901T191737Z
LAST-MODIFIED:20250901T191737Z
UID:3132-1757694600-1757788200@www.laquinta.com.co
SUMMARY:BAMBUCO\, TORBELLINO Y PASILLO
DESCRIPTION:En el marco de la Feria de Bucaramanga\, disfrutaremos de duetos musicales itinerantes que recorrerán La Quinta Centro Comercial\, sorprendiendo a grandes y chicos con los ritmos tradicionales santandereanos. \nLos duetos se desplazarán por diferentes espacios del centro comercial\, realizando presentaciones cortas y compartiendo momentos especiales con el público.
URL:https://www.laquinta.com.co/event/bambuco-torbellino-y-pasillo-2/
ATTACH;FMTTYPE=image/png:https://www.laquinta.com.co/wp-content/uploads/2025/09/ACTIVIDAD-2.png
END:VEVENT
BEGIN:VEVENT
DTSTART;TZID=America/New_York:20250912T163000
DTEND;TZID=America/New_York:20250913T183000
DTSTAMP:20260425T210908
CREATED:20250901T191527Z
LAST-MODIFIED:20250901T192751Z
UID:3130-1757694600-1757788200@www.laquinta.com.co
SUMMARY:BAMBUCO\, TORBELLINO Y PASILLO
DESCRIPTION:En el marco de la Feria de Bucaramanga\, disfrutaremos de duetos musicales itinerantes que recorrerán La Quinta Centro Comercial\, sorprendiendo a grandes y chicos con los ritmos tradicionales santandereanos. \nLos duetos se desplazarán por diferentes espacios del centro comercial\, realizando presentaciones cortas y compartiendo momentos especiales con el público.
URL:https://www.laquinta.com.co/event/bambuco-torbellino-y-pasillo/
ATTACH;FMTTYPE=image/png:https://www.laquinta.com.co/wp-content/uploads/2025/09/ACTIVIDAD-2.png
END:VEVENT
BEGIN:VEVENT
DTSTART;TZID=America/New_York:20250907T113000
DTEND;TZID=America/New_York:20250928T123000
DTSTAMP:20260425T210908
CREATED:20250901T192457Z
LAST-MODIFIED:20250901T192457Z
UID:3138-1757244600-1759062600@www.laquinta.com.co
SUMMARY:SANTA EUCARISTÍA
DESCRIPTION:Todos los domingos de los meses de junio 2025 a las 11:30 a.m. los clientes podrán participar de la Sagrada Eucaristía en el segundo piso de la fase II.
URL:https://www.laquinta.com.co/event/santa-eucaristia-14/
ATTACH;FMTTYPE=image/png:https://www.laquinta.com.co/wp-content/uploads/2025/09/SANTA-EUCARISTIA.png
END:VEVENT
BEGIN:VEVENT
DTSTART;TZID=America/New_York:20250905T180000
DTEND;TZID=America/New_York:20250927T200000
DTSTAMP:20260425T210908
CREATED:20250901T192620Z
LAST-MODIFIED:20250901T193006Z
UID:3140-1757095200-1759003200@www.laquinta.com.co
SUMMARY:SHOWS MUSICALES VIERNES Y SABADOS
DESCRIPTION:Durante septiembre continuamos con las presentaciones musicales que amenizan el centro comercial así: \nTodos los viernes y sábados \nLugar: Terraza Q \nHora: 6:00 p.m.
URL:https://www.laquinta.com.co/event/shows-musicales-viernes-y-sabados-2/
ATTACH;FMTTYPE=image/png:https://www.laquinta.com.co/wp-content/uploads/2025/09/SHOW-MUSICAL.png
END:VEVENT
BEGIN:VEVENT
DTSTART;VALUE=DATE:20250902
DTEND;VALUE=DATE:20251001
DTSTAMP:20260425T210908
CREATED:20250901T191106Z
LAST-MODIFIED:20250901T191106Z
UID:3122-1756771200-1759276799@www.laquinta.com.co
SUMMARY:FLECHEMOS JUNTOS DONANDO PELUCHES Y ROPA EN BUEN ESTADO
DESCRIPTION:Del 1 al 30 de septiembre\, La Quinta Centro Comercial recibirá donaciones de peluches y ropa en buen estado. Las donaciones podrán depositarse en la urna ubicada en el primer piso\, junto al punto de información. Todo lo recolectado será entregado a los beneficiarios del Programa de Habitanza en Calle de la Alcaldía de Bucaramanga.
URL:https://www.laquinta.com.co/event/flechemos-juntos-donando-peluches-y-ropa-en-buen-estado/
ATTACH;FMTTYPE=image/png:https://www.laquinta.com.co/wp-content/uploads/2025/09/ACTIVIDAD-1.png
END:VEVENT
BEGIN:VEVENT
DTSTART;TZID=America/New_York:20250828T110000
DTEND;TZID=America/New_York:20250831T210000
DTSTAMP:20260425T210908
CREATED:20250804T204441Z
LAST-MODIFIED:20250901T155041Z
UID:3039-1756378800-1756674000@www.laquinta.com.co
SUMMARY:8vo Festival Gastronómico en Terraza Q
DESCRIPTION:!Come\, disfruta y comparte en la Terraza Q de La Quinta! \nTe esperamos del 28 al 31 de agosto. \nHorarios: \n\nJueves a sábado: 11 am a 9 pm\nDomingo: 11 am a 8 pm\n\n 
URL:https://www.laquinta.com.co/event/8vo-festival-gastronomico-en-terraza-q/
ATTACH;FMTTYPE=image/jpeg:https://www.laquinta.com.co/wp-content/uploads/2025/08/ACTIVIDAD-5.jpg
END:VEVENT
BEGIN:VEVENT
DTSTART;TZID=America/New_York:20250822T160000
DTEND;TZID=America/New_York:20250822T173000
DTSTAMP:20260425T210908
CREATED:20250731T203140Z
LAST-MODIFIED:20250804T205337Z
UID:3035-1755878400-1755883800@www.laquinta.com.co
SUMMARY:El método del Sabor con Forestal
DESCRIPTION:Por registro de compras acumuladas\, iguales o superiores a $100 mil\, entre el 1 y 21 de agosto del 2025\, nuestras clientes podrán inscribirse en “El método del sabor” un taller de métodos de preparación del café en alianza con la marca Forestal el cual se desarrollará el viernes 22 de agosto del 2025. \nCupos disponibles: 30 \nFecha de actividad: 22 de agosto \nHora: 4:00 pm \nLugar de actividad: Terraza Q \n*Incluye materiales para desarrollo de actividad (30 und) \nPuntos de registro: Fase 1 y Fase 2 de La Quinta centro comercial o a través de nuestra línea a WhatsApp 3183627326.
URL:https://www.laquinta.com.co/event/forestal-el-metodo-del-sabor/
ATTACH;FMTTYPE=image/jpeg:https://www.laquinta.com.co/wp-content/uploads/2025/07/ACTIVIDAD-3.jpg
END:VEVENT
BEGIN:VEVENT
DTSTART;TZID=America/New_York:20250809T160000
DTEND;TZID=America/New_York:20250809T170000
DTSTAMP:20260425T210908
CREATED:20250804T204929Z
LAST-MODIFIED:20250804T205414Z
UID:3042-1754755200-1754758800@www.laquinta.com.co
SUMMARY:Taller de Lectura a Voz Alta con Ulibro
DESCRIPTION:Disfruta de una tarde llena de imaginación y asombro con Ulibro en Terraza Q. Acompañanos y vive en familia un espcio unico. \nLugar: Terraza Q \nHora: 4:00 p.m.
URL:https://www.laquinta.com.co/event/taller-de-lectura-a-voz-alta-con-ulibro/
ATTACH;FMTTYPE=image/jpeg:https://www.laquinta.com.co/wp-content/uploads/2025/08/ACTIVIDAD-ULIBRO.jpg
END:VEVENT
BEGIN:VEVENT
DTSTART;TZID=America/New_York:20250808T160000
DTEND;TZID=America/New_York:20250808T173000
DTSTAMP:20260425T210908
CREATED:20250731T202927Z
LAST-MODIFIED:20250804T205456Z
UID:3033-1754668800-1754674200@www.laquinta.com.co
SUMMARY:Taller infantil Siembra en tu Matera con Time Out
DESCRIPTION:Por registro de compras acumuladas\, iguales o superiores a $100 mil\, entre el 1 al 7 de agosto\, nuestros clientes podrán inscribir a sus hijos entre los 2 a 10 años\, a una actividad infantil\, la cual consiste en potenciar sus áreas de aprendizaje\, sembrando una planta en una materita decorada. Esta actividad será dirigida\, por los talleristas de Time Out y se desarrollará el viernes 8 de agosto del 2025. Aplican 22* cupos para las primeras 22 personas que realicen inscripción en los Puntos de registro Fase 1 y Fase 2 de La Quinta centro comercial o través de nuestra línea a WhatsApp 3183627326. \nFecha: 8 de agosto \nHora: 4:00 p.m. \nLugar: Terraza Q
URL:https://www.laquinta.com.co/event/taller-infantil-siembra-en-tu-matera-con-time-out/
ATTACH;FMTTYPE=image/jpeg:https://www.laquinta.com.co/wp-content/uploads/2025/07/ACTIVIDAD-3.jpg
END:VEVENT
BEGIN:VEVENT
DTSTART;TZID=America/New_York:20250807T123000
DTEND;TZID=America/New_York:20250807T143000
DTSTAMP:20260425T210908
CREATED:20250731T200420Z
LAST-MODIFIED:20250804T205514Z
UID:3031-1754569800-1754577000@www.laquinta.com.co
SUMMARY:Celebración 7 agosto
DESCRIPTION:El jueves 7 de agosto tendremos una jornada dedicada al día de la independencia en La Quinta Centro Comercial\, la cual se desarrollará así: \n\nAcompañamiento de un show musical\n\nHora: 12:30 p.m. Entrada libre \nLugar: Terraza Q \n\nActivación Campesina Performance\n\nHora: 4:00 p.m. Entrada libre \nLugar: Todos los pisos del centro comercial \nDetalle: Dulce representativo de Colombia
URL:https://www.laquinta.com.co/event/celebracion-7-de-agosto/
ATTACH;FMTTYPE=image/jpeg:https://www.laquinta.com.co/wp-content/uploads/2025/07/ACTIVIDAD-2.jpg
END:VEVENT
BEGIN:VEVENT
DTSTART;TZID=America/New_York:20250725T160000
DTEND;TZID=America/New_York:20250725T170000
DTSTAMP:20260425T210908
CREATED:20250701T200503Z
LAST-MODIFIED:20250701T200503Z
UID:3007-1753459200-1753462800@www.laquinta.com.co
SUMMARY:DECORA TU GORRITO DE CHEF CON TIME OUT
DESCRIPTION:Por registro de compras acumuladas\, iguales o superiores a $100 mil\, entre el 1 al 24 de julio\, nuestros clientes podrán inscribir a sus hijos entre los 2 a 10 años\, a una actividad infantil\, la cual consiste en potenciar sus áreas de aprendizaje\, decorando cada niño un gorro de chef. Esta actividad será dirigida\, por los talleristas de Time Out y se desarrollará el viernes 25 de julio del 2025. Aplican 22* cupos para las primeras 22 personas que realicen inscripción en los Puntos de registro Fase 1 y Fase 2 de La Quinta centro comercial o través de nuestra línea a WhatsApp 3183627326. \nFecha: 25 de julio \nHora: 4:00 p.m. \nLugar: Terraza Q
URL:https://www.laquinta.com.co/event/decora-tu-gorrito-de-chef-con-time-out/
ATTACH;FMTTYPE=image/jpeg:https://www.laquinta.com.co/wp-content/uploads/2025/07/ACTIVIDAD-5-POST.jpg
END:VEVENT
BEGIN:VEVENT
DTSTART;TZID=America/New_York:20250720T160000
DTEND;TZID=America/New_York:20250720T170000
DTSTAMP:20260425T210908
CREATED:20250701T200620Z
LAST-MODIFIED:20250701T200620Z
UID:3009-1753027200-1753030800@www.laquinta.com.co
SUMMARY:20 DE JULIO DIA DE LA INDEPENCIA DE COLOMBIA
DESCRIPTION:Activación Cien Años de Soledad Performance\nHora: 4:00 p.m. Entrada libre\nLugar: Todos los pisos del centro comercial
URL:https://www.laquinta.com.co/event/20-de-julio-dia-de-la-indepencia-de-colombia-2/
ATTACH;FMTTYPE=image/jpeg:https://www.laquinta.com.co/wp-content/uploads/2025/07/ACTIVIDAD-4-POST.jpg
END:VEVENT
BEGIN:VEVENT
DTSTART;TZID=America/New_York:20250720T120000
DTEND;TZID=America/New_York:20250720T130000
DTSTAMP:20260425T210908
CREATED:20250701T200331Z
LAST-MODIFIED:20250701T200331Z
UID:3005-1753012800-1753016400@www.laquinta.com.co
SUMMARY:20 DE JULIO DIA DE LA INDEPENCIA DE COLOMBIA
DESCRIPTION:Acompañamiento de un show de danza Folclórica \nHora: 12:30 p.m. Entrada libre \nLugar: Terraza Q
URL:https://www.laquinta.com.co/event/20-de-julio-dia-de-la-indepencia-de-colombia/
ATTACH;FMTTYPE=image/jpeg:https://www.laquinta.com.co/wp-content/uploads/2025/07/ACTIVIDAD-3-POST.jpg
END:VEVENT
BEGIN:VEVENT
DTSTART;TZID=America/New_York:20250718T160000
DTEND;TZID=America/New_York:20250718T173000
DTSTAMP:20260425T210908
CREATED:20250701T200118Z
LAST-MODIFIED:20250701T200118Z
UID:3003-1752854400-1752859800@www.laquinta.com.co
SUMMARY:CREA TU ESENCIA JUNTO CON BESSENSE
DESCRIPTION:Por registro de compras acumuladas\, iguales o superiores a $100 mil\, entre el 1 y 17 de julio del 2025\, nuestras clientes podrán inscribirse para asistir “Crea tu esencia” un taller olfativo en alianza con la marca Bessense\, el cual se realizará el viernes 18 de julio del 2025. \nCupos disponibles: 30 \nFecha de actividad: 18 de julio \nHora: 4:00 pm \nLugar de actividad: Terraza Q
URL:https://www.laquinta.com.co/event/crea-tu-esencia-junto-con-bessense/
ATTACH;FMTTYPE=image/jpeg:https://www.laquinta.com.co/wp-content/uploads/2025/07/ACTIVIDAD-2-POST.jpg
END:VEVENT
BEGIN:VEVENT
DTSTART;TZID=America/New_York:20250714T100000
DTEND;TZID=America/New_York:20250714T110000
DTSTAMP:20260425T210908
CREATED:20250701T195917Z
LAST-MODIFIED:20250701T195917Z
UID:2993-1752487200-1752490800@www.laquinta.com.co
SUMMARY:UNDER THE SEA: ¡LITTLE EXPLORERS DIVE IN!
DESCRIPTION:El lunes 14 de julio realizaremos una actividad sensorial para mamás con bebes\, la cual consiste en un espacio diseñado para que cada niño desarrolle con ejercicios sensoriales una motricidad fina y gruesa. Aplican 15* cupos para las primeras 15 mujeres que realicen inscripción libre a través del link de registro. \nFecha: 14 de julio \nHora: 10:00 a.m. \nLugar: Terraza Q
URL:https://www.laquinta.com.co/event/under-the-sea-little-explorers-dive-in/
ATTACH;FMTTYPE=image/jpeg:https://www.laquinta.com.co/wp-content/uploads/2025/07/ACTIVIDAD-1-POST.jpg
END:VEVENT
BEGIN:VEVENT
DTSTART;TZID=America/New_York:20250704T100000
DTEND;TZID=America/New_York:20250831T190000
DTSTAMP:20260425T210908
CREATED:20250701T201316Z
LAST-MODIFIED:20250701T201316Z
UID:3011-1751623200-1756666800@www.laquinta.com.co
SUMMARY:EXPOSICIÓN MUSEO EN MINIATURA POR FLOR CARVAJAL
DESCRIPTION:Durante julio y agosto\, déjate sorprender por una exhibición óptica en miniatura. ubicada en el ingreso de la Cra. 36. \nCon la ayuda de una lupa\, explora obras en homenaje a nuestra biodiversidad y colombianidad\, en un formato único y fascinante. \nValor de ingreso: $2.000\, destinado en su totalidad al proveedor de la muestra.
URL:https://www.laquinta.com.co/event/exposicion-museo-en-miniatura-por-flor-carvajal/
ATTACH;FMTTYPE=image/jpeg:https://www.laquinta.com.co/wp-content/uploads/2025/07/ACTIVIDAD-6-POST.jpg
END:VEVENT
BEGIN:VEVENT
DTSTART;TZID=America/New_York:20250701T180000
DTEND;TZID=America/New_York:20250831T200000
DTSTAMP:20260425T210908
CREATED:20250701T201913Z
LAST-MODIFIED:20250804T205248Z
UID:3015-1751392800-1756670400@www.laquinta.com.co
SUMMARY:SHOWS MUSICALES VIERNES Y SABADOS
DESCRIPTION:Durante julio y agosto continuamos con las presentaciones musicales que amenizan el centro comercial así: \nTodos los viernes y sábados: \nLugar: Terraza Q \nHora: 6:00 p.m.
URL:https://www.laquinta.com.co/event/shows-musicales-viernes-y-sabados/
ATTACH;FMTTYPE=image/jpeg:https://www.laquinta.com.co/wp-content/uploads/2025/07/ACTIVIDAD-7-POST.jpg
END:VEVENT
BEGIN:VEVENT
DTSTART;TZID=America/New_York:20250701T113000
DTEND;TZID=America/New_York:20250831T123000
DTSTAMP:20260425T210908
CREATED:20250701T201649Z
LAST-MODIFIED:20250804T205041Z
UID:3013-1751369400-1756643400@www.laquinta.com.co
SUMMARY:SANTA EUCARISTÍA
DESCRIPTION:Todos los domingos de julio y agosto a las 11:30 a.m. los clientes podrán participar de la Sagrada Eucaristía en el segundo piso de la fase II.
URL:https://www.laquinta.com.co/event/santa-eucaristia-13/
ATTACH;FMTTYPE=image/jpeg:https://www.laquinta.com.co/wp-content/uploads/2025/07/ACTIVIDAD-8-POST.jpg
END:VEVENT
BEGIN:VEVENT
DTSTART;TZID=America/New_York:20250616T100000
DTEND;TZID=America/New_York:20250616T230000
DTSTAMP:20260425T210909
CREATED:20250531T142850Z
LAST-MODIFIED:20250531T142850Z
UID:2924-1750068000-1750114800@www.laquinta.com.co
SUMMARY:Under the Sea: Little Explorers Dive In con New Cambridge
DESCRIPTION:El lunes 16 de junio realizaremos una actividad para mamás con bebes entre 2 y 12 meses\, la cual consiste en un espacio diseñado para que cada niño desarrolle con ejercicios sensoriales una motricidad fina y gruesa. \nFecha: 16 de junio \nHora: 10:00 a.m. \nLugar: Terraza Q
URL:https://www.laquinta.com.co/event/under-the-sea-little-explorers-dive-in-con-new-cambridge/
ATTACH;FMTTYPE=image/jpeg:https://www.laquinta.com.co/wp-content/uploads/2025/05/ACTIVIDAD-4.jpg
END:VEVENT
BEGIN:VEVENT
DTSTART;TZID=America/New_York:20250615T123000
DTEND;TZID=America/New_York:20250615T140000
DTSTAMP:20260425T210909
CREATED:20250531T142639Z
LAST-MODIFIED:20250531T142639Z
UID:2922-1749990600-1749996000@www.laquinta.com.co
SUMMARY:Show musical Salsa\, Bolero y Son Cubano para papá
DESCRIPTION:El domingo 15 de junio – Día del padre- tendremos show musical en vivo de Salsa\, Bolero y Son para los padres de La Quinta que nos acompañen este día. \nHora: 12:30 p.m. \nLugar: Terraza Q.
URL:https://www.laquinta.com.co/event/show-musical-salsa-bolero-y-son-cubano-para-papa/
ATTACH;FMTTYPE=image/jpeg:https://www.laquinta.com.co/wp-content/uploads/2025/05/ACTIVIDAD-3.jpg
END:VEVENT
BEGIN:VEVENT
DTSTART;TZID=America/New_York:20250614T160000
DTEND;TZID=America/New_York:20250614T180000
DTSTAMP:20260425T210909
CREATED:20250531T142454Z
LAST-MODIFIED:20250531T142454Z
UID:2920-1749916800-1749924000@www.laquinta.com.co
SUMMARY:Barra de cocteles para papá
DESCRIPTION:El sábado de 14 de junio amenizaremos la tarde de compras para papá con una barra de cocteles para acompañar la tarde. Los primeros 100 clientes que registren compras por $150 mil se llevarán el cóctel de su preferencia. \nHora: 4:00 – 6:00 p.m. \nLugar: Piso 1 punto de información \nCantidad: 100 cocteles
URL:https://www.laquinta.com.co/event/barra-de-cocteles-para-papa/
ATTACH;FMTTYPE=image/jpeg:https://www.laquinta.com.co/wp-content/uploads/2025/05/ACTIVIDAD-2.jpg
END:VEVENT
BEGIN:VEVENT
DTSTART;TZID=America/New_York:20250608T113000
DTEND;TZID=America/New_York:20250629T123000
DTSTAMP:20260425T210909
CREATED:20250531T143611Z
LAST-MODIFIED:20250531T143611Z
UID:2929-1749382200-1751200200@www.laquinta.com.co
SUMMARY:Santa Eucaristía
DESCRIPTION:Todos los domingos de los meses de junio 2025 a las 11:30 a.m. los clientes podrán participar de la Sagrada Eucaristía en el segundo piso de la fase II.
URL:https://www.laquinta.com.co/event/santa-eucaristia-12/
ATTACH;FMTTYPE=image/jpeg:https://www.laquinta.com.co/wp-content/uploads/2025/05/SANTA-EUCARISTÍA.jpg
END:VEVENT
BEGIN:VEVENT
DTSTART;TZID=America/New_York:20250606T180000
DTEND;TZID=America/New_York:20250628T200000
DTSTAMP:20260425T210909
CREATED:20250531T143359Z
LAST-MODIFIED:20250531T143359Z
UID:2927-1749232800-1751140800@www.laquinta.com.co
SUMMARY:Show musicales en Terraza Q
DESCRIPTION:Durante el mes de juniode 2025 continuamos con las presentaciones musicales que amenizan el centro comercial así Todos los viernes y sábados: Lugar: Terraza Q Hora: 6:30 pm
URL:https://www.laquinta.com.co/event/show-musicales-en-terraza-q-3/
ATTACH;FMTTYPE=image/jpeg:https://www.laquinta.com.co/wp-content/uploads/2025/05/SHOWS-MUSICALES.jpg
END:VEVENT
END:VCALENDAR