BEGIN:VCALENDAR
VERSION:2.0
PRODID:-//La Quinta Centro Comercial - ECPv6.15.17.1//NONSGML v1.0//EN
CALSCALE:GREGORIAN
METHOD:PUBLISH
X-ORIGINAL-URL:https://www.laquinta.com.co
X-WR-CALDESC:Eventos para La Quinta Centro Comercial
REFRESH-INTERVAL;VALUE=DURATION:PT1H
X-Robots-Tag:noindex
X-PUBLISHED-TTL:PT1H
BEGIN:VTIMEZONE
TZID:America/New_York
BEGIN:DAYLIGHT
TZOFFSETFROM:-0500
TZOFFSETTO:-0400
TZNAME:EDT
DTSTART:20240310T070000
END:DAYLIGHT
BEGIN:STANDARD
TZOFFSETFROM:-0400
TZOFFSETTO:-0500
TZNAME:EST
DTSTART:20241103T060000
END:STANDARD
BEGIN:DAYLIGHT
TZOFFSETFROM:-0500
TZOFFSETTO:-0400
TZNAME:EDT
DTSTART:20250309T070000
END:DAYLIGHT
BEGIN:STANDARD
TZOFFSETFROM:-0400
TZOFFSETTO:-0500
TZNAME:EST
DTSTART:20251102T060000
END:STANDARD
BEGIN:DAYLIGHT
TZOFFSETFROM:-0500
TZOFFSETTO:-0400
TZNAME:EDT
DTSTART:20260308T070000
END:DAYLIGHT
BEGIN:STANDARD
TZOFFSETFROM:-0400
TZOFFSETTO:-0500
TZNAME:EST
DTSTART:20261101T060000
END:STANDARD
BEGIN:DAYLIGHT
TZOFFSETFROM:-0500
TZOFFSETTO:-0400
TZNAME:EDT
DTSTART:20270314T070000
END:DAYLIGHT
BEGIN:STANDARD
TZOFFSETFROM:-0400
TZOFFSETTO:-0500
TZNAME:EST
DTSTART:20271107T060000
END:STANDARD
END:VTIMEZONE
BEGIN:VEVENT
DTSTART;TZID=America/New_York:20260425T150000
DTEND;TZID=America/New_York:20260425T180000
DTSTAMP:20260425T182000
CREATED:20260408T170059Z
LAST-MODIFIED:20260408T170059Z
UID:6534-1777129200-1777140000@www.laquinta.com.co
SUMMARY:Celebración día del Niño\, personajes sorpresa del Fútbol y candy bar
DESCRIPTION:Se desarrollará una jornada enfocada en público familiar e infantil\, con personajes sorpresa del fútbol y una activación tipo “fútbol bar” que de manera itinerante entregará dulces por los pasillos del mall\, una experiencia diseñada para complementar la experiencia y generar un cierre de mes atractivo y diferencial. \nLa actividad estará abierta para todos los visitantes y se realizará por todo el centro comercial. \nHora: 3:00 p.m. – 6:00 p.m.
URL:https://www.laquinta.com.co/event/celebracion-dia-del-nino-personajes-sorpresa-del-futbol-y-candy-bar/
ATTACH;FMTTYPE=image/png:https://www.laquinta.com.co/wp-content/uploads/2026/04/PIEZAS-DE-ACTIVIDADES-DE-ABRIL-6.png
END:VEVENT
BEGIN:VEVENT
DTSTART;TZID=America/New_York:20260418T150000
DTEND;TZID=America/New_York:20260418T180000
DTSTAMP:20260425T182000
CREATED:20260408T165548Z
LAST-MODIFIED:20260408T165548Z
UID:6532-1776524400-1776535200@www.laquinta.com.co
SUMMARY:Free style y personajes sorpresa del futbol
DESCRIPTION:Contaremos con la activación itinerante de free style junto a un personaje sorpresa del mundo del fútbol\, creando una experiencia distinta que conecte con los visitantes y aumente la interacción. \nLa actividad estará abierta para todos los visitantes y se realizará por todo el centro comercial. \n Hora: 3:00 p.m. – 6:00 p.m.
URL:https://www.laquinta.com.co/event/free-style-y-personajes-sorpresa-del-futbol/
END:VEVENT
BEGIN:VEVENT
DTSTART;TZID=America/New_York:20260411T150000
DTEND;TZID=America/New_York:20260411T180000
DTSTAMP:20260425T182000
CREATED:20260408T165036Z
LAST-MODIFIED:20260408T165036Z
UID:6529-1775919600-1775930400@www.laquinta.com.co
SUMMARY:Free style y algondes
DESCRIPTION:Se realizará una activación itinerante de free style acompañada de estación de algodones de dulce\, generando un ambiente dinámico y atractivo para incentivar la permanencia en el centro comercial. La actividad estará abierta para todos los visitantes y se realizará por todo el centro comercial. \nHora: 3:00 p.m. – 6:00 p.m.
URL:https://www.laquinta.com.co/event/free-style-y-algondes/
ATTACH;FMTTYPE=image/png:https://www.laquinta.com.co/wp-content/uploads/2026/04/PIEZAS-DE-ACTIVIDADES-DE-ABRIL-2.png
END:VEVENT
BEGIN:VEVENT
DTSTART;TZID=America/New_York:20260405T080000
DTEND;TZID=America/New_York:20260405T170000
DTSTAMP:20260425T182000
CREATED:20260408T164802Z
LAST-MODIFIED:20260408T164802Z
UID:6522-1775376000-1775408400@www.laquinta.com.co
SUMMARY:HUEVOS DE PASCUA ESCONDIDOS
DESCRIPTION:El domingo 05 de abril se llevará a cabo la actividad “HUEVOS DE PASCUA ESCONDIDOS”\, en la cual se esconderán doce (12) huevos de pascua dentro de las instalaciones del centro comercial. Los clientes serán invitados a participar en la búsqueda y quienes encuentren uno de los huevos recibirán un bono de consumo de la Terraza Q por valor de cincuenta mil pesos ($50.000). \nFecha: 05 de abril \nHora: Desde las 8:00 a.m. \nTotal\, en bonos: $600.000 \nTotal\, de huevos escondidos: 12 unidades
URL:https://www.laquinta.com.co/event/huevos-de-pascua-escondidos/
ATTACH;FMTTYPE=image/png:https://www.laquinta.com.co/wp-content/uploads/2026/04/PIEZAS-DE-ACTIVIDADES-DE-ABRIL-1.png
END:VEVENT
BEGIN:VEVENT
DTSTART;TZID=America/New_York:20260228T160000
DTEND;TZID=America/New_York:20260228T173000
DTSTAMP:20260425T182000
CREATED:20260202T193623Z
LAST-MODIFIED:20260202T194000Z
UID:6438-1772294400-1772299800@www.laquinta.com.co
SUMMARY:Tropas Crucero de Disney
DESCRIPTION:Te invitamos a vivir la magia del Cruise Line de Disney por nuestros pisos del centro comercial. \nLugar: Todos los pidos \nFecha: 28 febrero \nHora: 4:00 p.m.
URL:https://www.laquinta.com.co/event/tropas-crucero-de-disney/
ATTACH;FMTTYPE=image/jpeg:https://www.laquinta.com.co/wp-content/uploads/2026/02/ACTIVIDAD-5.jpg
END:VEVENT
BEGIN:VEVENT
DTSTART;TZID=America/New_York:20260220T153000
DTEND;TZID=America/New_York:20260220T170000
DTSTAMP:20260425T182000
CREATED:20260202T194738Z
LAST-MODIFIED:20260202T194738Z
UID:6445-1771601400-1771606800@www.laquinta.com.co
SUMMARY:Cuentos que Abrazan con Time Out
DESCRIPTION:Por el registro de compras acumuladas iguales o superiores a $100 mil\, realizadas entre el 1 y el 19 de febrero\, nuestros clientes podrán inscribir a sus hijos (entre 3 y 10 años)
URL:https://www.laquinta.com.co/event/cuentos-que-abrazan-con-time-out/
ATTACH;FMTTYPE=image/jpeg:https://www.laquinta.com.co/wp-content/uploads/2026/02/ACTIVIDAD-4.jpg
END:VEVENT
BEGIN:VEVENT
DTSTART;TZID=America/New_York:20260218T113000
DTEND;TZID=America/New_York:20260218T123000
DTSTAMP:20260425T182000
CREATED:20260202T194552Z
LAST-MODIFIED:20260202T220805Z
UID:6443-1771414200-1771417800@www.laquinta.com.co
SUMMARY:Imposición de la ceniza
DESCRIPTION:El miércoles 5 de marzo a las 11:30 am tendremos la eucaristía con imposición de la ceniza. Lugar: Piso 2 Fase 2
URL:https://www.laquinta.com.co/event/imposicion-de-la-ceniza/
ATTACH;FMTTYPE=image/jpeg:https://www.laquinta.com.co/wp-content/uploads/2026/02/WhatsApp-Image-2026-02-02-at-3.55.47-PM.jpeg
END:VEVENT
BEGIN:VEVENT
DTSTART;TZID=America/New_York:20260214T160000
DTEND;TZID=America/New_York:20260214T180000
DTSTAMP:20260425T182000
CREATED:20260202T195122Z
LAST-MODIFIED:20260202T195122Z
UID:6448-1771084800-1771092000@www.laquinta.com.co
SUMMARY:San Valentín en La Quinta
DESCRIPTION:Te invitamos a compartir un San Valentín con los que mas amás. Activación itinerante por todos los pidos del mall. \n\nFecha: 22 de febrero \nHora: 4:00 p.m.
URL:https://www.laquinta.com.co/event/san-valentin-en-la-quinta-2/
ATTACH;FMTTYPE=image/jpeg:https://www.laquinta.com.co/wp-content/uploads/2026/02/ACTIVIDAD-2.jpg
END:VEVENT
BEGIN:VEVENT
DTSTART;TZID=America/New_York:20260213T160000
DTEND;TZID=America/New_York:20260213T180000
DTSTAMP:20260425T182000
CREATED:20260202T194107Z
LAST-MODIFIED:20260202T194107Z
UID:6441-1770998400-1771005600@www.laquinta.com.co
SUMMARY:Tropas Crucero de Disney
DESCRIPTION:Te invitamos a vivir la magia del Cruise Line de Disney por nuestros pisos del centro comercial. \nLugar: Todos los pidos \nFecha: 13 de febrero \nHora: 4:00 p.m.
URL:https://www.laquinta.com.co/event/tropas-crucero-de-disney-2/
ATTACH;FMTTYPE=image/jpeg:https://www.laquinta.com.co/wp-content/uploads/2026/02/ACTIVIDAD-1.jpg
END:VEVENT
BEGIN:VEVENT
DTSTART;TZID=America/New_York:20260201T113000
DTEND;TZID=America/New_York:20260222T123000
DTSTAMP:20260425T182000
CREATED:20260202T193316Z
LAST-MODIFIED:20260202T193316Z
UID:6430-1769945400-1771763400@www.laquinta.com.co
SUMMARY:Santa Eucaristía
DESCRIPTION:Todos los domingos del mes de febrero 2026 a las 11:30 a.m. podras acompañarnos en la Sagrada Eucaristía\, la cual se realiza en el segundo piso de la fase II.
URL:https://www.laquinta.com.co/event/santa-eucaristia-17/
ATTACH;FMTTYPE=image/png:https://www.laquinta.com.co/wp-content/uploads/2026/02/ACTIVIDAD-6.png
END:VEVENT
BEGIN:VEVENT
DTSTART;TZID=America/New_York:20260123T153000
DTEND;TZID=America/New_York:20260123T170000
DTSTAMP:20260425T182000
CREATED:20260102T192138Z
LAST-MODIFIED:20260102T192138Z
UID:5765-1769182200-1769187600@www.laquinta.com.co
SUMMARY:Arte bajo el Sol con Time Out
DESCRIPTION:Por el registro de compras acumuladas iguales o superiores a $100 mil\, realizadas entre el 1 y el 22 de enero\, nuestros clientes podrán inscribir a sus hijos (entre 3 y 10 años) en el taller Arte bajo el Sol con Time Out. \nFecha: 23de eneor \nHora: 3:30 pm \nLugar: Terraza Q
URL:https://www.laquinta.com.co/event/arte-bajo-el-sol-con-time-out/
ATTACH;FMTTYPE=image/png:https://www.laquinta.com.co/wp-content/uploads/2026/01/ACTIVIDAD-1.png
END:VEVENT
BEGIN:VEVENT
DTSTART;TZID=America/New_York:20260117T160000
DTEND;TZID=America/New_York:20260131T180000
DTSTAMP:20260425T182000
CREATED:20260105T202207Z
LAST-MODIFIED:20260105T202207Z
UID:5876-1768665600-1769882400@www.laquinta.com.co
SUMMARY:Tropas Crucero de Disney en La Quinta
DESCRIPTION:Vive una experiencia unica con Mickey y sus amigos en crucero\, durante las tardes del 17 y del 31 de enero. \nHora: 4:00 p.m. \nLugar: Todos los pisos del centro comercial
URL:https://www.laquinta.com.co/event/tropas-crucero-de-disney-en-la-quinta/
ATTACH;FMTTYPE=image/png:https://www.laquinta.com.co/wp-content/uploads/2026/01/ACTIVIDAD-1-2.png
END:VEVENT
BEGIN:VEVENT
DTSTART;TZID=America/New_York:20260104T113000
DTEND;TZID=America/New_York:20260131T130000
DTSTAMP:20260425T182000
CREATED:20260102T164356Z
LAST-MODIFIED:20260102T164514Z
UID:5762-1767526200-1769864400@www.laquinta.com.co
SUMMARY:Santa Eucaristía
DESCRIPTION:Todos los domingos del mes de enero 2026 a las 11:30 a.m. podras acompañarnos en la Sagrada Eucaristía\, la cual se realiza en el segundo piso de la fase II.
URL:https://www.laquinta.com.co/event/santa-eucaristia-16/
ATTACH;FMTTYPE=image/png:https://www.laquinta.com.co/wp-content/uploads/2026/01/ACTIVIDAD-3.png
END:VEVENT
BEGIN:VEVENT
DTSTART;TZID=America/New_York:20260102T180000
DTEND;TZID=America/New_York:20260102T200000
DTSTAMP:20260425T182000
CREATED:20260102T164119Z
LAST-MODIFIED:20260102T164119Z
UID:5756-1767376800-1767384000@www.laquinta.com.co
SUMMARY:Show musical viernes y sábados
DESCRIPTION:Disfruta de la mejor oferta gastronómica en compañia de nuestros show musicales todos los viernes y sabados\, 6 p.m. en Terraza Q.
URL:https://www.laquinta.com.co/event/show-musical-viernes-y-sabados-3/
ATTACH;FMTTYPE=image/png:https://www.laquinta.com.co/wp-content/uploads/2026/01/ACTIVIDAD-2.png
END:VEVENT
BEGIN:VEVENT
DTSTART;TZID=America/New_York:20251227T180000
DTEND;TZID=America/New_York:20251227T200000
DTSTAMP:20260425T182000
CREATED:20251201T171631Z
LAST-MODIFIED:20251201T171631Z
UID:4419-1766858400-1766865600@www.laquinta.com.co
SUMMARY:Show musical viernes y sabados
DESCRIPTION:Disfruta de la mejor oferta gastronómica en compañia de nuestros show musicales todos los viernes y sabados\, 6 p.m. en Terraza Q.
URL:https://www.laquinta.com.co/event/show-musical-viernes-y-sabados-2/
ATTACH;FMTTYPE=image/jpeg:https://www.laquinta.com.co/wp-content/uploads/2025/11/SHOW-MUSICAL-1-scaled.jpg
END:VEVENT
BEGIN:VEVENT
DTSTART;TZID=America/New_York:20251215T183000
DTEND;TZID=America/New_York:20251223T193000
DTSTAMP:20260425T182000
CREATED:20251201T165624Z
LAST-MODIFIED:20251201T165624Z
UID:4412-1765823400-1766518200@www.laquinta.com.co
SUMMARY:Novenas navideñas en La Quinta
DESCRIPTION:Del 15 al 23 de diciembre celebraremos las novenas navideñas en la Terraza Q a las 6:30 p.m. Entrada libre. \n*El domingo 21 de diciembre la novena se realizará en la eucaristía dominical de las 11:30 a.m
URL:https://www.laquinta.com.co/event/novenas-navidenas-en-la-quinta/
ATTACH;FMTTYPE=image/jpeg:https://www.laquinta.com.co/wp-content/uploads/2025/12/ACTIVIDAD-2-scaled.jpg
END:VEVENT
BEGIN:VEVENT
DTSTART;TZID=America/New_York:20251212T153000
DTEND;TZID=America/New_York:20251212T173000
DTSTAMP:20260425T182000
CREATED:20251201T171938Z
LAST-MODIFIED:20251201T171938Z
UID:4421-1765553400-1765560600@www.laquinta.com.co
SUMMARY:Taller infantil con Time Out: Mis galletas de jengibre
DESCRIPTION:Por el registro de compras acumuladas iguales o superiores a $100 mil\, nuestros clientes podrán inscribir a sus hijos (entre 4 y 10 años) en las siguientes actividades especiales. Registros de facturas del 1 al 11 de diciembre. \nFecha taller: viernes 12 de diciembre. \nTema: Crea tu gorrito de Navidad \nHora: 3:30 p.m.
URL:https://www.laquinta.com.co/event/taller-infantil-con-time-out-mis-galletas-de-jengibre/
ATTACH;FMTTYPE=image/jpeg:https://www.laquinta.com.co/wp-content/uploads/2025/12/ACTIVIDAD-1-scaled.jpg
END:VEVENT
BEGIN:VEVENT
DTSTART;TZID=America/New_York:20251207T113000
DTEND;TZID=America/New_York:20251228T123000
DTSTAMP:20260425T182000
CREATED:20251201T172047Z
LAST-MODIFIED:20251201T172047Z
UID:4423-1765107000-1766925000@www.laquinta.com.co
SUMMARY:Santa Eucaristía todos los domingos
DESCRIPTION:Acompañanos todos los domingos a las 11:30 am en Fase 2 piso 2.
URL:https://www.laquinta.com.co/event/santa-eucaristia-todos-los-domingos-2/
ATTACH;FMTTYPE=image/jpeg:https://www.laquinta.com.co/wp-content/uploads/2025/12/SANTA-EUCARISTÍA-1-scaled.jpg
END:VEVENT
BEGIN:VEVENT
DTSTART;TZID=America/New_York:20251127T100000
DTEND;TZID=America/New_York:20251130T210000
DTSTAMP:20260425T182000
CREATED:20251107T210206Z
LAST-MODIFIED:20251107T210206Z
UID:3562-1764237600-1764536400@www.laquinta.com.co
SUMMARY:Compras en Black Days
DESCRIPTION:Haz que tu compras brillen del 27 al 30 de noviembre. Te esperamos para vivir sorpresas y mucho mas. \nTodo el dia.
URL:https://www.laquinta.com.co/event/compras-en-black-days/
ATTACH;FMTTYPE=image/jpeg:https://www.laquinta.com.co/wp-content/uploads/2025/11/ACTIVIDAD-3-scaled.jpg
END:VEVENT
BEGIN:VEVENT
DTSTART;TZID=America/New_York:20251121T160000
DTEND;TZID=America/New_York:20251121T173000
DTSTAMP:20260425T182000
CREATED:20251107T203626Z
LAST-MODIFIED:20251107T203626Z
UID:3556-1763740800-1763746200@www.laquinta.com.co
SUMMARY:Taller infantil con Time Out: Crea tu gorrito de navidad
DESCRIPTION:Por el registro de compras acumuladas iguales o superiores a $100 mil\, nuestros clientes podrán inscribir a sus hijos (entre 4 y 10 años) en las siguientes actividades especiales. \n\nRegistros de facturas del 1 al 20 de noviembre.\nFecha taller: viernes 21 de noviembre.\nTema: Crea tu gorrito de Navidad\nHora: 4:00 p.m.
URL:https://www.laquinta.com.co/event/taller-infantil-con-time-out-crea-tu-gorrito-de-navidad/
ATTACH;FMTTYPE=image/jpeg:https://www.laquinta.com.co/wp-content/uploads/2025/11/ACTIVIDAD-2-scaled.jpg
END:VEVENT
BEGIN:VEVENT
DTSTART;TZID=America/New_York:20251108T000000
DTEND;TZID=America/New_York:20251108T000000
DTSTAMP:20260425T182000
CREATED:20251108T150045Z
LAST-MODIFIED:20251108T152810Z
UID:3602-1762560000-1762560000@www.laquinta.com.co
SUMMARY:Show musical viernes y sabados
DESCRIPTION:Disfruta de la mejor oferta gastronómica en compañia de nuestros show musicales todos los viernes y sabados\, 6 p.m. en Terraza Q. \n 
URL:https://www.laquinta.com.co/event/show-musical-viernes-y-sabados/
ATTACH;FMTTYPE=image/jpeg:https://www.laquinta.com.co/wp-content/uploads/2025/11/SHOW-MUSICAL-scaled.jpg
END:VEVENT
BEGIN:VEVENT
DTSTART;TZID=America/New_York:20251107T180000
DTEND;TZID=America/New_York:20251107T200000
DTSTAMP:20260425T182000
CREATED:20251107T202259Z
LAST-MODIFIED:20251107T202259Z
UID:3553-1762538400-1762545600@www.laquinta.com.co
SUMMARY:Encendida de Navidad
DESCRIPTION:Acompañanos a encender nuestras luces de Navidad desde las 6pm. \nEn todo el centro comercial.
URL:https://www.laquinta.com.co/event/encendida-de-navidad/
ATTACH;FMTTYPE=image/jpeg:https://www.laquinta.com.co/wp-content/uploads/2025/11/ACTIVIDAD-1-scaled.jpg
END:VEVENT
BEGIN:VEVENT
DTSTART;TZID=America/New_York:20251102T120000
DTEND;TZID=America/New_York:20251130T123000
DTSTAMP:20260425T182000
CREATED:20251107T211548Z
LAST-MODIFIED:20251108T143522Z
UID:3564-1762084800-1764505800@www.laquinta.com.co
SUMMARY:Santa Eucaristía todos los domingos
DESCRIPTION:Acompañanos todos los domingos a las 11:30 am en Fase 2 piso 2.
URL:https://www.laquinta.com.co/event/santa-eucaristia-todos-los-domingos/
ATTACH;FMTTYPE=image/jpeg:https://www.laquinta.com.co/wp-content/uploads/2025/11/SANTA-EUCARISTIA-scaled.jpg
END:VEVENT
BEGIN:VEVENT
DTSTART;TZID=America/New_York:20251031T100000
DTEND;TZID=America/New_York:20251031T190000
DTSTAMP:20260425T182000
CREATED:20251001T172143Z
LAST-MODIFIED:20251001T172143Z
UID:3201-1761904800-1761937200@www.laquinta.com.co
SUMMARY:Actividad para niños día de Halloween
DESCRIPTION:El viernes 31 de octubre\, disfrutaremos de un desfile de personajes en pisos comerciales\, acompañados de candys para repartir a los niños visitantes entre las 4:00pm – 7:00pm. La entrada es libre.
URL:https://www.laquinta.com.co/event/actividad-para-ninos-dia-de-halloween/
ATTACH;FMTTYPE=image/png:https://www.laquinta.com.co/wp-content/uploads/2025/10/ACTIVIDAD-3.png
END:VEVENT
BEGIN:VEVENT
DTSTART;TZID=America/New_York:20251024T160000
DTEND;TZID=America/New_York:20251024T170000
DTSTAMP:20260425T182000
CREATED:20251001T171905Z
LAST-MODIFIED:20251001T171905Z
UID:3199-1761321600-1761325200@www.laquinta.com.co
SUMMARY:Crea tu antifaz y capa con TimeOut!
DESCRIPTION:Por el registro de compras acumuladas iguales o superiores a $100 mil\, realizadas entre el 1 y el 23 de octubre\, nuestros clientes podrán inscribir a sus hijos (entre 2 y 10 años) en una actividad especial denominada Crea tu antifaz y capa. La actividad consiste en fortalecer las áreas de aprendizaje de los niños mediante la imaginación y creatividad crearan su antifaz y capa en temática del mes del niño. La jornada será dirigida por los talleristas de Time Out. \nFecha actividad: 24 de octubre \nHora: 4:00 p.m. \nLugar: Terraza Q \nCupos disponibles: 22.
URL:https://www.laquinta.com.co/event/crea-tu-antifaz-y-capa-con-timeout/
ATTACH;FMTTYPE=image/png:https://www.laquinta.com.co/wp-content/uploads/2025/10/ACTIVIDAD-2.png
END:VEVENT
BEGIN:VEVENT
DTSTART;TZID=America/New_York:20251005T113000
DTEND;TZID=America/New_York:20251026T123000
DTSTAMP:20260425T182000
CREATED:20251001T172616Z
LAST-MODIFIED:20251001T172649Z
UID:3205-1759663800-1761481800@www.laquinta.com.co
SUMMARY:Santa Eucaristía
DESCRIPTION:Todos los domingos del mes de octubre 2025 a las 11:30 a.m. los clientes podrán participar de la Sagrada Eucaristía en el segundo piso de la fase II.
URL:https://www.laquinta.com.co/event/santa-eucaristia-15/
ATTACH;FMTTYPE=image/png:https://www.laquinta.com.co/wp-content/uploads/2025/10/SANTA-EUCARISTIA.png
END:VEVENT
BEGIN:VEVENT
DTSTART;TZID=America/New_York:20251003T180000
DTEND;TZID=America/New_York:20251031T200000
DTSTAMP:20260425T182000
CREATED:20251001T172510Z
LAST-MODIFIED:20251001T172739Z
UID:3203-1759514400-1761940800@www.laquinta.com.co
SUMMARY:Shows musicales viernes y sábados
DESCRIPTION:Durante el mes continuamos con las presentaciones musicales que amenizan el centro comercial así: \nTodos los viernes y sábados: \nLugar: Terraza Q \nHora: 6:00 p.m.
URL:https://www.laquinta.com.co/event/shows-musicales-viernes-y-sabados-3/
ATTACH;FMTTYPE=image/png:https://www.laquinta.com.co/wp-content/uploads/2025/10/SHOW-MUSICAL.png
END:VEVENT
BEGIN:VEVENT
DTSTART;TZID=America/New_York:20251001T150000
DTEND;TZID=America/New_York:20251010T180000
DTSTAMP:20260425T182000
CREATED:20251001T171645Z
LAST-MODIFIED:20251001T171709Z
UID:3191-1759330800-1760119200@www.laquinta.com.co
SUMMARY:Celebración día mundial de la Salud Mental
DESCRIPTION:El viernes 10 de octubre realizaremos una actividad en cobranding con Encuadre con el proposito de celebrar el cuidado de la salud mental de nuestros visitantes. \nLugar: Ingreso cra 36 \nFecha: Viernes\, 10 de octubre de 2025 \nHora: 3:00 pm \n  \n 
URL:https://www.laquinta.com.co/event/celebracion-dia-mundial-de-la-salud-mental/
ATTACH;FMTTYPE=image/png:https://www.laquinta.com.co/wp-content/uploads/2025/10/ACTIVIDAD-1.png
END:VEVENT
BEGIN:VEVENT
DTSTART;TZID=America/New_York:20250926T160000
DTEND;TZID=America/New_York:20250926T180000
DTSTAMP:20260425T182000
CREATED:20250901T192136Z
LAST-MODIFIED:20250901T192215Z
UID:3136-1758902400-1758909600@www.laquinta.com.co
SUMMARY:TALLER FABRICA DE LA AMISTAD CON TIME OUT
DESCRIPTION:Por el registro de compras acumuladas iguales o superiores a $100 mil\, realizadas entre el 1 y el 25 de septiembre\, nuestros clientes podrán inscribir a sus hijos (entre 2 y 10 años) en una actividad especial denominada Fábrica de la Amistad. \nLa actividad consiste en fortalecer las áreas de aprendizaje de los niños mediante la creación de pulseras personalizadas que luego podrán obsequiar. La jornada será dirigida por los talleristas de Time Out. Fecha: 26 de septiembre Hora: 4:00 p.m. Lugar: Terraza Q Cupos disponibles: 22.
URL:https://www.laquinta.com.co/event/taller-fabrica-de-la-amistad-con-time-out/
ATTACH;FMTTYPE=image/png:https://www.laquinta.com.co/wp-content/uploads/2025/09/ACTIVIDAD-4.png
END:VEVENT
BEGIN:VEVENT
DTSTART;TZID=America/New_York:20250920T153000
DTEND;TZID=America/New_York:20250920T173000
DTSTAMP:20260425T182000
CREATED:20250901T191942Z
LAST-MODIFIED:20250901T191949Z
UID:3134-1758382200-1758389400@www.laquinta.com.co
SUMMARY:ACTIVACIÓN DIA DE AMOR Y AMISTAD
DESCRIPTION:Cupido conquistará el corazón de nuestros visitantes! \nEl sábado 20 de septiembre\, en el marco de la celebración del Día del Amor y la Amistad\, tendremos la visita de un Cupido que entregará un lindo detalle a nuestros clientes. Además\, contaremos con animación musical en los diferentes pisos comerciales.
URL:https://www.laquinta.com.co/event/activacion-dia-de-amor-y-amistad/
ATTACH;FMTTYPE=image/png:https://www.laquinta.com.co/wp-content/uploads/2025/09/ACTIVIDAD-3.png
END:VEVENT
END:VCALENDAR